BEGIN:VCALENDAR
PRODID:-//nuDatenautomaten//framework iCal4j //DE
VERSION:2.0
CALSCALE:GREGORIAN
BEGIN:VTIMEZONE
TZID:Europe/Berlin
LAST-MODIFIED:20260306T231828Z
TZURL:https://www.tzurl.org/zoneinfo/Europe/Berlin
X-LIC-LOCATION:Europe/Berlin
X-PROLEPTIC-TZNAME:LMT
BEGIN:STANDARD
TZNAME:CET
TZOFFSETFROM:+005328
TZOFFSETTO:+0100
DTSTART:18930401T000000
END:STANDARD
BEGIN:DAYLIGHT
TZNAME:CEST
TZOFFSETFROM:+0100
TZOFFSETTO:+0200
DTSTART:19160430T230000
RDATE:19400401T020000
RDATE:19430329T020000
RDATE:19460414T020000
RDATE:19470406T030000
RDATE:19480418T020000
RDATE:19490410T020000
RDATE:19800406T020000
END:DAYLIGHT
BEGIN:STANDARD
TZNAME:CET
TZOFFSETFROM:+0200
TZOFFSETTO:+0100
DTSTART:19161001T010000
RDATE:19421102T030000
RDATE:19431004T030000
RDATE:19441002T030000
RDATE:19451118T030000
RDATE:19461007T030000
END:STANDARD
BEGIN:DAYLIGHT
TZNAME:CEST
TZOFFSETFROM:+0100
TZOFFSETTO:+0200
DTSTART:19170416T020000
RRULE:FREQ=YEARLY;UNTIL=19180415T010000Z;BYMONTH=4;BYDAY=3MO
END:DAYLIGHT
BEGIN:STANDARD
TZNAME:CET
TZOFFSETFROM:+0200
TZOFFSETTO:+0100
DTSTART:19170917T030000
RRULE:FREQ=YEARLY;UNTIL=19180916T010000Z;BYMONTH=9;BYDAY=3MO
END:STANDARD
BEGIN:DAYLIGHT
TZNAME:CEST
TZOFFSETFROM:+0100
TZOFFSETTO:+0200
DTSTART:19440403T020000
RRULE:FREQ=YEARLY;UNTIL=19450402T010000Z;BYMONTH=4;BYDAY=1MO
END:DAYLIGHT
BEGIN:DAYLIGHT
TZNAME:CEMT
TZOFFSETFROM:+0200
TZOFFSETTO:+0300
DTSTART:19450524T020000
RDATE:19470511T030000
END:DAYLIGHT
BEGIN:DAYLIGHT
TZNAME:CEST
TZOFFSETFROM:+0300
TZOFFSETTO:+0200
DTSTART:19450924T030000
RDATE:19470629T030000
END:DAYLIGHT
BEGIN:STANDARD
TZNAME:CET
TZOFFSETFROM:+0100
TZOFFSETTO:+0100
DTSTART:19460101T000000
RDATE:19800101T000000
END:STANDARD
BEGIN:STANDARD
TZNAME:CET
TZOFFSETFROM:+0200
TZOFFSETTO:+0100
DTSTART:19471005T030000
RRULE:FREQ=YEARLY;UNTIL=19491002T010000Z;BYMONTH=10;BYDAY=1SU
END:STANDARD
BEGIN:STANDARD
TZNAME:CET
TZOFFSETFROM:+0200
TZOFFSETTO:+0100
DTSTART:19800928T030000
RRULE:FREQ=YEARLY;UNTIL=19950924T010000Z;BYMONTH=9;BYDAY=-1SU
END:STANDARD
BEGIN:DAYLIGHT
TZNAME:CEST
TZOFFSETFROM:+0100
TZOFFSETTO:+0200
DTSTART:19810329T020000
RRULE:FREQ=YEARLY;BYMONTH=3;BYDAY=-1SU
END:DAYLIGHT
BEGIN:STANDARD
TZNAME:CET
TZOFFSETFROM:+0200
TZOFFSETTO:+0100
DTSTART:19961027T030000
RRULE:FREQ=YEARLY;BYMONTH=10;BYDAY=-1SU
END:STANDARD
END:VTIMEZONE
BEGIN:VEVENT
DTSTAMP:20260426T042131Z
DTSTART;TZID=Europe/Berlin:20250315T170000
DTEND;TZID=Europe/Berlin:20250315T183000
SUMMARY:RLOS wA Füchse Berlin Reindf. vs TSV Rudow (600040)
UID:392a7048-7122-4606-bfd5-ba130cfe8e35
STATUS:CONFIRMED
LAST-MODIFIED:20250316T081611Z
DESCRIPTION:Regionalliga Ostsee-Spree weibliche Jugend A\nBegegnungs-Nr: 600040\nHeim: Füchse Berlin Reindf.\nGast: TSV Rudow\nHalle: Sporthalle im Füchse Berlin Sportpark (495)\nAdresse: Freiheitsweg 18\, 13407 Berlin\n
LOCATION:Sporthalle im Füchse Berlin Sportpark (495): Freiheitsweg 18\, 13407 Berlin
CATEGORIES:Saison 2024/25
END:VEVENT
BEGIN:VEVENT
DTSTAMP:20260426T042131Z
DTSTART;TZID=Europe/Berlin:20241123T140000
DTEND;TZID=Europe/Berlin:20241123T153000
SUMMARY:RLOS wA Füchse Berlin Reindf. vs SG NARVA Berlin (600018)
UID:1adaee83-2a53-405c-a47f-8de28ee9357e
STATUS:CONFIRMED
LAST-MODIFIED:20241125T060244Z
DESCRIPTION:Regionalliga Ostsee-Spree weibliche Jugend A\nBegegnungs-Nr: 600018\nHeim: Füchse Berlin Reindf.\nGast: SG NARVA Berlin\nHalle: Sporthalle im Füchse Berlin Sportpark (495)\nAdresse: Freiheitsweg 18\, 13407 Berlin\n
LOCATION:Sporthalle im Füchse Berlin Sportpark (495): Freiheitsweg 18\, 13407 Berlin
CATEGORIES:Saison 2024/25
END:VEVENT
BEGIN:VEVENT
DTSTAMP:20260426T042131Z
DTSTART;TZID=Europe/Berlin:20241207T170000
DTEND;TZID=Europe/Berlin:20241207T183000
SUMMARY:RLOS wA Füchse Berlin Reindf. vs Berliner TSC II (600024)
UID:ec795317-7049-49bc-b30e-bb1d2feb594e
STATUS:CONFIRMED
LAST-MODIFIED:20241209T091413Z
DESCRIPTION:Regionalliga Ostsee-Spree weibliche Jugend A\nBegegnungs-Nr: 600024\nHeim: Füchse Berlin Reindf.\nGast: Berliner TSC II\nHalle: Sporthalle im Füchse Berlin Sportpark (495)\nAdresse: Freiheitsweg 18\, 13407 Berlin\n
LOCATION:Sporthalle im Füchse Berlin Sportpark (495): Freiheitsweg 18\, 13407 Berlin
CATEGORIES:Saison 2024/25
END:VEVENT
BEGIN:VEVENT
DTSTAMP:20260426T042131Z
DTSTART;TZID=Europe/Berlin:20250327T191500
DTEND;TZID=Europe/Berlin:20250327T204500
SUMMARY:RLOS wA Füchse Berlin Reindf. vs TSV Rudow (600010)
UID:0345cba6-2340-4cc2-9093-54e352f720ca
STATUS:CONFIRMED
LAST-MODIFIED:20250402T160502Z
DESCRIPTION:Regionalliga Ostsee-Spree weibliche Jugend A\nBegegnungs-Nr: 600010\nHeim: Füchse Berlin Reindf.\nGast: TSV Rudow\nHalle: Sporthalle im Füchse Berlin Sportpark (495)\nAdresse: Freiheitsweg 18\, 13407 Berlin\n
LOCATION:Sporthalle im Füchse Berlin Sportpark (495): Freiheitsweg 18\, 13407 Berlin
CATEGORIES:Saison 2024/25
END:VEVENT
BEGIN:VEVENT
DTSTAMP:20260426T042131Z
DTSTART;TZID=Europe/Berlin:20240914T180000
DTEND;TZID=Europe/Berlin:20240914T193000
SUMMARY:RLOS wA Füchse Berlin Reindf. vs SG OSF Berlin (600004)
UID:2f24f392-5553-4d00-a3c7-2378c101e099
STATUS:CONFIRMED
LAST-MODIFIED:20240915T062142Z
DESCRIPTION:Regionalliga Ostsee-Spree weibliche Jugend A\nBegegnungs-Nr: 600004\nHeim: Füchse Berlin Reindf.\nGast: SG OSF Berlin\nHalle: Sporthalle im Füchse Berlin Sportpark (495)\nAdresse: Freiheitsweg 18\, 13407 Berlin\n
LOCATION:Sporthalle im Füchse Berlin Sportpark (495): Freiheitsweg 18\, 13407 Berlin
CATEGORIES:Saison 2024/25
END:VEVENT
BEGIN:VEVENT
DTSTAMP:20260426T042131Z
DTSTART;TZID=Europe/Berlin:20250301T140000
DTEND;TZID=Europe/Berlin:20250301T153000
SUMMARY:RLOS wA Füchse Berlin Reindf. vs SG OSF Berlin (600034)
UID:571fc38a-d908-4691-b8c7-eef8d040d396
STATUS:CONFIRMED
LAST-MODIFIED:20250303T080314Z
DESCRIPTION:Regionalliga Ostsee-Spree weibliche Jugend A\nBegegnungs-Nr: 600034\nHeim: Füchse Berlin Reindf.\nGast: SG OSF Berlin\nHalle: Sporthalle im Füchse Berlin Sportpark (495)\nAdresse: Freiheitsweg 18\, 13407 Berlin\n
LOCATION:Sporthalle im Füchse Berlin Sportpark (495): Freiheitsweg 18\, 13407 Berlin
CATEGORIES:Saison 2024/25
END:VEVENT
BEGIN:VEVENT
DTSTAMP:20260426T042131Z
DTSTART;TZID=Europe/Berlin:20250222T171500
DTEND;TZID=Europe/Berlin:20250222T184500
SUMMARY:RLOS wA Berliner TSC II vs Füchse Berlin Reindf. (600039)
UID:24f5d4a1-01b6-4443-a5f9-40752cb91821
STATUS:CONFIRMED
LAST-MODIFIED:20250225T170053Z
DESCRIPTION:Regionalliga Ostsee-Spree weibliche Jugend A\nBegegnungs-Nr: 600039\nHeim: Berliner TSC II\nGast: Füchse Berlin Reindf.\nHalle: Seelenbinderhalle im Velodrom (446)\nAdresse: Paul-Heyse-Straße 26/ Eing. Tiefgarage\, 10407 Berlin\n
LOCATION:Seelenbinderhalle im Velodrom (446): Paul-Heyse-Straße 26/ Eing. Tiefgarage\, 10407 Berlin
CATEGORIES:Saison 2024/25
END:VEVENT
BEGIN:VEVENT
DTSTAMP:20260426T042131Z
DTSTART;TZID=Europe/Berlin:20241116T130000
DTEND;TZID=Europe/Berlin:20241116T143000
SUMMARY:RLOS wA TSV Rudow vs Füchse Berlin Reindf. (600025)
UID:3511f3f9-9429-4d89-8854-f332b06db438
STATUS:CONFIRMED
LAST-MODIFIED:20241117T080601Z
DESCRIPTION:Regionalliga Ostsee-Spree weibliche Jugend A\nBegegnungs-Nr: 600025\nHeim: TSV Rudow\nGast: Füchse Berlin Reindf.\nHalle: Sporthalle Michael-Ende-Grundschule (373)\nAdresse: Neuhofer Straße 41\, 12355 Berlin \n
LOCATION:Sporthalle Michael-Ende-Grundschule (373): Neuhofer Straße 41\, 12355 Berlin 
CATEGORIES:Saison 2024/25
END:VEVENT
BEGIN:VEVENT
DTSTAMP:20260426T042131Z
DTSTART;TZID=Europe/Berlin:20241130T171500
DTEND;TZID=Europe/Berlin:20241130T184500
SUMMARY:RLOS wA SG OSF Berlin vs Füchse Berlin Reindf. (600019)
UID:0ab624fd-0a2c-43d9-8d30-b8aabddc6723
STATUS:CONFIRMED
LAST-MODIFIED:20241201T191507Z
DESCRIPTION:Regionalliga Ostsee-Spree weibliche Jugend A\nBegegnungs-Nr: 600019\nHeim: SG OSF Berlin\nGast: Füchse Berlin Reindf.\nHalle: Sporthalle Schöneberg (525)\nAdresse: Sachsendamm 12\, 10829 Berlin\n
LOCATION:Sporthalle Schöneberg (525): Sachsendamm 12\, 10829 Berlin
CATEGORIES:Saison 2024/25
END:VEVENT
BEGIN:VEVENT
DTSTAMP:20260426T042131Z
DTSTART;TZID=Europe/Berlin:20240929T133000
DTEND;TZID=Europe/Berlin:20240929T150000
SUMMARY:RLOS wA SG NARVA Berlin vs Füchse Berlin Reindf. (600003)
UID:e32c8fea-e8bb-464d-bd6f-cb7240a05806
STATUS:CONFIRMED
LAST-MODIFIED:20250804T131219Z
DESCRIPTION:Regionalliga Ostsee-Spree weibliche Jugend A\nBegegnungs-Nr: 600003\nHeim: SG NARVA Berlin\nGast: Füchse Berlin Reindf.\nHalle: Sporthalle Palisadenstraße - unten -  (209)\nAdresse: Palisadenstraße 76-78\, 10243 Berlin \n
LOCATION:Sporthalle Palisadenstraße - unten -  (209): Palisadenstraße 76-78\, 10243 Berlin 
CATEGORIES:Saison 2024/25
END:VEVENT
BEGIN:VEVENT
DTSTAMP:20260426T042131Z
DTSTART;TZID=Europe/Berlin:20241006T143000
DTEND;TZID=Europe/Berlin:20241006T160000
SUMMARY:RLOS wA Berliner TSC II vs Füchse Berlin Reindf. (600009)
UID:a92ec06d-e9cc-4015-878c-8d0d65df3aa2
STATUS:CONFIRMED
LAST-MODIFIED:20241006T161215Z
DESCRIPTION:Regionalliga Ostsee-Spree weibliche Jugend A\nBegegnungs-Nr: 600009\nHeim: Berliner TSC II\nGast: Füchse Berlin Reindf.\nHalle: Sporthalle Paul-Heyse-Str. (442)\nAdresse: Paul-Heyse-Straße 25\, 10407 Berlin\n
LOCATION:Sporthalle Paul-Heyse-Str. (442): Paul-Heyse-Straße 25\, 10407 Berlin
CATEGORIES:Saison 2024/25
END:VEVENT
BEGIN:VEVENT
DTSTAMP:20260426T042131Z
DTSTART;TZID=Europe/Berlin:20250125T160000
DTEND;TZID=Europe/Berlin:20250125T173000
SUMMARY:RLOS wA SG NARVA Berlin vs Füchse Berlin Reindf. (600033)
UID:983ccd95-6d4a-494f-a178-5c821d3033d3
STATUS:CONFIRMED
LAST-MODIFIED:20250127T085220Z
DESCRIPTION:Regionalliga Ostsee-Spree weibliche Jugend A\nBegegnungs-Nr: 600033\nHeim: SG NARVA Berlin\nGast: Füchse Berlin Reindf.\nHalle: Sporthalle Gürtelstr.  (200)\nAdresse: Gürtelstraße 20\, 10247 Berlin\n
LOCATION:Sporthalle Gürtelstr.  (200): Gürtelstraße 20\, 10247 Berlin
CATEGORIES:Saison 2024/25
END:VEVENT
END:VCALENDAR
