BEGIN:VCALENDAR
PRODID:-//nuDatenautomaten//framework iCal4j //DE
VERSION:2.0
CALSCALE:GREGORIAN
BEGIN:VTIMEZONE
TZID:Europe/Berlin
LAST-MODIFIED:20260306T231828Z
TZURL:https://www.tzurl.org/zoneinfo/Europe/Berlin
X-LIC-LOCATION:Europe/Berlin
X-PROLEPTIC-TZNAME:LMT
BEGIN:STANDARD
TZNAME:CET
TZOFFSETFROM:+005328
TZOFFSETTO:+0100
DTSTART:18930401T000000
END:STANDARD
BEGIN:DAYLIGHT
TZNAME:CEST
TZOFFSETFROM:+0100
TZOFFSETTO:+0200
DTSTART:19160430T230000
RDATE:19400401T020000
RDATE:19430329T020000
RDATE:19460414T020000
RDATE:19470406T030000
RDATE:19480418T020000
RDATE:19490410T020000
RDATE:19800406T020000
END:DAYLIGHT
BEGIN:STANDARD
TZNAME:CET
TZOFFSETFROM:+0200
TZOFFSETTO:+0100
DTSTART:19161001T010000
RDATE:19421102T030000
RDATE:19431004T030000
RDATE:19441002T030000
RDATE:19451118T030000
RDATE:19461007T030000
END:STANDARD
BEGIN:DAYLIGHT
TZNAME:CEST
TZOFFSETFROM:+0100
TZOFFSETTO:+0200
DTSTART:19170416T020000
RRULE:FREQ=YEARLY;UNTIL=19180415T010000Z;BYMONTH=4;BYDAY=3MO
END:DAYLIGHT
BEGIN:STANDARD
TZNAME:CET
TZOFFSETFROM:+0200
TZOFFSETTO:+0100
DTSTART:19170917T030000
RRULE:FREQ=YEARLY;UNTIL=19180916T010000Z;BYMONTH=9;BYDAY=3MO
END:STANDARD
BEGIN:DAYLIGHT
TZNAME:CEST
TZOFFSETFROM:+0100
TZOFFSETTO:+0200
DTSTART:19440403T020000
RRULE:FREQ=YEARLY;UNTIL=19450402T010000Z;BYMONTH=4;BYDAY=1MO
END:DAYLIGHT
BEGIN:DAYLIGHT
TZNAME:CEMT
TZOFFSETFROM:+0200
TZOFFSETTO:+0300
DTSTART:19450524T020000
RDATE:19470511T030000
END:DAYLIGHT
BEGIN:DAYLIGHT
TZNAME:CEST
TZOFFSETFROM:+0300
TZOFFSETTO:+0200
DTSTART:19450924T030000
RDATE:19470629T030000
END:DAYLIGHT
BEGIN:STANDARD
TZNAME:CET
TZOFFSETFROM:+0100
TZOFFSETTO:+0100
DTSTART:19460101T000000
RDATE:19800101T000000
END:STANDARD
BEGIN:STANDARD
TZNAME:CET
TZOFFSETFROM:+0200
TZOFFSETTO:+0100
DTSTART:19471005T030000
RRULE:FREQ=YEARLY;UNTIL=19491002T010000Z;BYMONTH=10;BYDAY=1SU
END:STANDARD
BEGIN:STANDARD
TZNAME:CET
TZOFFSETFROM:+0200
TZOFFSETTO:+0100
DTSTART:19800928T030000
RRULE:FREQ=YEARLY;UNTIL=19950924T010000Z;BYMONTH=9;BYDAY=-1SU
END:STANDARD
BEGIN:DAYLIGHT
TZNAME:CEST
TZOFFSETFROM:+0100
TZOFFSETTO:+0200
DTSTART:19810329T020000
RRULE:FREQ=YEARLY;BYMONTH=3;BYDAY=-1SU
END:DAYLIGHT
BEGIN:STANDARD
TZNAME:CET
TZOFFSETFROM:+0200
TZOFFSETTO:+0100
DTSTART:19961027T030000
RRULE:FREQ=YEARLY;BYMONTH=10;BYDAY=-1SU
END:STANDARD
END:VTIMEZONE
BEGIN:VEVENT
DTSTAMP:20260420T043254Z
DTSTART;TZID=Europe/Berlin:20250316T133000
DTEND;TZID=Europe/Berlin:20250316T150000
SUMMARY:RLOS wA SG OSF Berlin vs SG NARVA Berlin (600041)
UID:fe70d58b-6d62-487c-9298-4cece583edbf
STATUS:CONFIRMED
LAST-MODIFIED:20250404T195614Z
DESCRIPTION:Regionalliga Ostsee-Spree weibliche Jugend A\nBegegnungs-Nr: 600041\nHeim: SG OSF Berlin\nGast: SG NARVA Berlin\nHalle: Sporthalle Schöneberg (525)\nAdresse: Sachsendamm 12\, 10829 Berlin\n
LOCATION:Sporthalle Schöneberg (525): Sachsendamm 12\, 10829 Berlin
CATEGORIES:Saison 2024/25
END:VEVENT
BEGIN:VEVENT
DTSTAMP:20260420T043254Z
DTSTART;TZID=Europe/Berlin:20241207T174500
DTEND;TZID=Europe/Berlin:20241207T191500
SUMMARY:RLOS wA SG OSF Berlin vs TSV Rudow (600023)
UID:038e38d1-5889-4afb-917f-0fe5d534a97e
STATUS:CONFIRMED
LAST-MODIFIED:20241209T091518Z
DESCRIPTION:Regionalliga Ostsee-Spree weibliche Jugend A\nBegegnungs-Nr: 600023\nHeim: SG OSF Berlin\nGast: TSV Rudow\nHalle: Sporthalle Schöneberg (525)\nAdresse: Sachsendamm 12\, 10829 Berlin\n
LOCATION:Sporthalle Schöneberg (525): Sachsendamm 12\, 10829 Berlin
CATEGORIES:Saison 2024/25
END:VEVENT
BEGIN:VEVENT
DTSTAMP:20260420T043254Z
DTSTART;TZID=Europe/Berlin:20241116T150000
DTEND;TZID=Europe/Berlin:20241116T163000
SUMMARY:RLOS wA SG OSF Berlin vs SG NARVA Berlin (600011)
UID:88b9d82d-1124-4d96-91f3-85f37b0fb205
STATUS:CONFIRMED
LAST-MODIFIED:20241117T080747Z
DESCRIPTION:Regionalliga Ostsee-Spree weibliche Jugend A\nBegegnungs-Nr: 600011\nHeim: SG OSF Berlin\nGast: SG NARVA Berlin\nHalle: Sporthalle Schöneberg (525)\nAdresse: Sachsendamm 12\, 10829 Berlin\n
LOCATION:Sporthalle Schöneberg (525): Sachsendamm 12\, 10829 Berlin
CATEGORIES:Saison 2024/25
END:VEVENT
BEGIN:VEVENT
DTSTAMP:20260420T043254Z
DTSTART;TZID=Europe/Berlin:20241002T183000
DTEND;TZID=Europe/Berlin:20241002T200000
SUMMARY:RLOS wA SG OSF Berlin vs SV Fort. 50 Neubrandenburg (600002)
UID:678546ae-4053-42ad-8b17-66a4ff3cd774
STATUS:CONFIRMED
LAST-MODIFIED:20250107T191940Z
DESCRIPTION:Regionalliga Ostsee-Spree weibliche Jugend A\nBegegnungs-Nr: 600002\nHeim: SG OSF Berlin\nGast: SV Fort. 50 Neubrandenburg\nHalle: Sporthalle Schöneberg (525)\nAdresse: Sachsendamm 12\, 10829 Berlin\n
LOCATION:Sporthalle Schöneberg (525): Sachsendamm 12\, 10829 Berlin
CATEGORIES:Saison 2024/25
END:VEVENT
BEGIN:VEVENT
DTSTAMP:20260420T043254Z
DTSTART;TZID=Europe/Berlin:20241130T171500
DTEND;TZID=Europe/Berlin:20241130T184500
SUMMARY:RLOS wA SG OSF Berlin vs Füchse Berlin Reindf. (600019)
UID:0ab624fd-0a2c-43d9-8d30-b8aabddc6723
STATUS:CONFIRMED
LAST-MODIFIED:20241201T191507Z
DESCRIPTION:Regionalliga Ostsee-Spree weibliche Jugend A\nBegegnungs-Nr: 600019\nHeim: SG OSF Berlin\nGast: Füchse Berlin Reindf.\nHalle: Sporthalle Schöneberg (525)\nAdresse: Sachsendamm 12\, 10829 Berlin\n
LOCATION:Sporthalle Schöneberg (525): Sachsendamm 12\, 10829 Berlin
CATEGORIES:Saison 2024/25
END:VEVENT
BEGIN:VEVENT
DTSTAMP:20260420T043254Z
DTSTART;TZID=Europe/Berlin:20250118T194500
DTEND;TZID=Europe/Berlin:20250118T211500
SUMMARY:RLOS wA SG OSF Berlin vs Berliner TSC II (600029)
UID:413ac16e-2e66-4604-b85d-8ffbd95bd55d
STATUS:CONFIRMED
LAST-MODIFIED:20250120T143901Z
DESCRIPTION:Regionalliga Ostsee-Spree weibliche Jugend A\nBegegnungs-Nr: 600029\nHeim: SG OSF Berlin\nGast: Berliner TSC II\nHalle: Sporthalle Schöneberg (525)\nAdresse: Sachsendamm 12\, 10829 Berlin\n
LOCATION:Sporthalle Schöneberg (525): Sachsendamm 12\, 10829 Berlin
CATEGORIES:Saison 2024/25
END:VEVENT
BEGIN:VEVENT
DTSTAMP:20260420T043254Z
DTSTART;TZID=Europe/Berlin:20241124T160000
DTEND;TZID=Europe/Berlin:20241124T173000
SUMMARY:RLOS wA SV Fort. 50 Neubrandenburg vs SG OSF Berlin (600017)
UID:98ec188a-569a-412e-839c-5e69a8276c1d
STATUS:CONFIRMED
LAST-MODIFIED:20250107T191940Z
DESCRIPTION:Regionalliga Ostsee-Spree weibliche Jugend A\nBegegnungs-Nr: 600017\nHeim: SV Fort. 50 Neubrandenburg\nGast: SG OSF Berlin\nHalle: Webasto Arena (024)\nAdresse: Binsenwerderstr. 2\, 17033 Neubrandenburg\n
LOCATION:Webasto Arena (024): Binsenwerderstr. 2\, 17033 Neubrandenburg
CATEGORIES:Saison 2024/25
END:VEVENT
BEGIN:VEVENT
DTSTAMP:20260420T043254Z
DTSTART;TZID=Europe/Berlin:20240929T150000
DTEND;TZID=Europe/Berlin:20240929T163000
SUMMARY:RLOS wA TSV Rudow vs SG OSF Berlin (600008)
UID:961abb38-706a-4a09-869b-6150f03ac104
STATUS:CONFIRMED
LAST-MODIFIED:20240929T183006Z
DESCRIPTION:Regionalliga Ostsee-Spree weibliche Jugend A\nBegegnungs-Nr: 600008\nHeim: TSV Rudow\nGast: SG OSF Berlin\nHalle: Sporthalle Michael-Ende-Grundschule (373)\nAdresse: Neuhofer Straße 41\, 12355 Berlin \n
LOCATION:Sporthalle Michael-Ende-Grundschule (373): Neuhofer Straße 41\, 12355 Berlin 
CATEGORIES:Saison 2024/25
END:VEVENT
BEGIN:VEVENT
DTSTAMP:20260420T043254Z
DTSTART;TZID=Europe/Berlin:20250112T160000
DTEND;TZID=Europe/Berlin:20250112T173000
SUMMARY:RLOS wA SG NARVA Berlin vs SG OSF Berlin (600026)
UID:ebccdc11-5406-4950-b111-ce5a6d914146
STATUS:CONFIRMED
LAST-MODIFIED:20250113T072846Z
DESCRIPTION:Regionalliga Ostsee-Spree weibliche Jugend A\nBegegnungs-Nr: 600026\nHeim: SG NARVA Berlin\nGast: SG OSF Berlin\nHalle: Sporthalle Palisadenstraße - unten -  (209)\nAdresse: Palisadenstraße 76-78\, 10243 Berlin \n
LOCATION:Sporthalle Palisadenstraße - unten -  (209): Palisadenstraße 76-78\, 10243 Berlin 
CATEGORIES:Saison 2024/25
END:VEVENT
BEGIN:VEVENT
DTSTAMP:20260420T043254Z
DTSTART;TZID=Europe/Berlin:20250329T151500
DTEND;TZID=Europe/Berlin:20250329T164500
SUMMARY:RLOS wA Berliner TSC II vs SG OSF Berlin (600044)
UID:9bb2c155-66de-418a-a90e-496e3c865b5c
STATUS:CONFIRMED
LAST-MODIFIED:20250327T100843Z
DESCRIPTION:Regionalliga Ostsee-Spree weibliche Jugend A\nBegegnungs-Nr: 600044\nHeim: Berliner TSC II\nGast: SG OSF Berlin\nHalle: Sporthalle Paul-Heyse-Str. (442)\nAdresse: Paul-Heyse-Straße 25\, 10407 Berlin\n
LOCATION:Sporthalle Paul-Heyse-Str. (442): Paul-Heyse-Straße 25\, 10407 Berlin
CATEGORIES:Saison 2024/25
END:VEVENT
BEGIN:VEVENT
DTSTAMP:20260420T043254Z
DTSTART;TZID=Europe/Berlin:20250223T143000
DTEND;TZID=Europe/Berlin:20250223T160000
SUMMARY:RLOS wA TSV Rudow vs SG OSF Berlin (600038)
UID:e2006933-b45e-4051-83ff-bbe317ffffb0
STATUS:CONFIRMED
LAST-MODIFIED:20250225T170246Z
DESCRIPTION:Regionalliga Ostsee-Spree weibliche Jugend A\nBegegnungs-Nr: 600038\nHeim: TSV Rudow\nGast: SG OSF Berlin\nHalle: Sporthalle Michael-Ende-Grundschule (373)\nAdresse: Neuhofer Straße 41\, 12355 Berlin \n
LOCATION:Sporthalle Michael-Ende-Grundschule (373): Neuhofer Straße 41\, 12355 Berlin 
CATEGORIES:Saison 2024/25
END:VEVENT
BEGIN:VEVENT
DTSTAMP:20260420T043254Z
DTSTART;TZID=Europe/Berlin:20240914T180000
DTEND;TZID=Europe/Berlin:20240914T193000
SUMMARY:RLOS wA Füchse Berlin Reindf. vs SG OSF Berlin (600004)
UID:2f24f392-5553-4d00-a3c7-2378c101e099
STATUS:CONFIRMED
LAST-MODIFIED:20240915T062142Z
DESCRIPTION:Regionalliga Ostsee-Spree weibliche Jugend A\nBegegnungs-Nr: 600004\nHeim: Füchse Berlin Reindf.\nGast: SG OSF Berlin\nHalle: Sporthalle im Füchse Berlin Sportpark (495)\nAdresse: Freiheitsweg 18\, 13407 Berlin\n
LOCATION:Sporthalle im Füchse Berlin Sportpark (495): Freiheitsweg 18\, 13407 Berlin
CATEGORIES:Saison 2024/25
END:VEVENT
BEGIN:VEVENT
DTSTAMP:20260420T043254Z
DTSTART;TZID=Europe/Berlin:20250301T140000
DTEND;TZID=Europe/Berlin:20250301T153000
SUMMARY:RLOS wA Füchse Berlin Reindf. vs SG OSF Berlin (600034)
UID:571fc38a-d908-4691-b8c7-eef8d040d396
STATUS:CONFIRMED
LAST-MODIFIED:20250303T080314Z
DESCRIPTION:Regionalliga Ostsee-Spree weibliche Jugend A\nBegegnungs-Nr: 600034\nHeim: Füchse Berlin Reindf.\nGast: SG OSF Berlin\nHalle: Sporthalle im Füchse Berlin Sportpark (495)\nAdresse: Freiheitsweg 18\, 13407 Berlin\n
LOCATION:Sporthalle im Füchse Berlin Sportpark (495): Freiheitsweg 18\, 13407 Berlin
CATEGORIES:Saison 2024/25
END:VEVENT
BEGIN:VEVENT
DTSTAMP:20260420T043254Z
DTSTART;TZID=Europe/Berlin:20241109T193000
DTEND;TZID=Europe/Berlin:20241109T210000
SUMMARY:RLOS wA Berliner TSC II vs SG OSF Berlin (600014)
UID:2cbe2bb5-0408-4a7f-9489-a975f8bd85f5
STATUS:CONFIRMED
LAST-MODIFIED:20241111T075048Z
DESCRIPTION:Regionalliga Ostsee-Spree weibliche Jugend A\nBegegnungs-Nr: 600014\nHeim: Berliner TSC II\nGast: SG OSF Berlin\nHalle: Seelenbinderhalle im Velodrom (446)\nAdresse: Paul-Heyse-Straße 26/ Eing. Tiefgarage\, 10407 Berlin\n
LOCATION:Seelenbinderhalle im Velodrom (446): Paul-Heyse-Straße 26/ Eing. Tiefgarage\, 10407 Berlin
CATEGORIES:Saison 2024/25
END:VEVENT
END:VCALENDAR
