BEGIN:VCALENDAR
PRODID:-//nuDatenautomaten//framework iCal4j //DE
VERSION:2.0
CALSCALE:GREGORIAN
BEGIN:VTIMEZONE
TZID:Europe/Berlin
LAST-MODIFIED:20260306T231828Z
TZURL:https://www.tzurl.org/zoneinfo/Europe/Berlin
X-LIC-LOCATION:Europe/Berlin
X-PROLEPTIC-TZNAME:LMT
BEGIN:STANDARD
TZNAME:CET
TZOFFSETFROM:+005328
TZOFFSETTO:+0100
DTSTART:18930401T000000
END:STANDARD
BEGIN:DAYLIGHT
TZNAME:CEST
TZOFFSETFROM:+0100
TZOFFSETTO:+0200
DTSTART:19160430T230000
RDATE:19400401T020000
RDATE:19430329T020000
RDATE:19460414T020000
RDATE:19470406T030000
RDATE:19480418T020000
RDATE:19490410T020000
RDATE:19800406T020000
END:DAYLIGHT
BEGIN:STANDARD
TZNAME:CET
TZOFFSETFROM:+0200
TZOFFSETTO:+0100
DTSTART:19161001T010000
RDATE:19421102T030000
RDATE:19431004T030000
RDATE:19441002T030000
RDATE:19451118T030000
RDATE:19461007T030000
END:STANDARD
BEGIN:DAYLIGHT
TZNAME:CEST
TZOFFSETFROM:+0100
TZOFFSETTO:+0200
DTSTART:19170416T020000
RRULE:FREQ=YEARLY;UNTIL=19180415T010000Z;BYMONTH=4;BYDAY=3MO
END:DAYLIGHT
BEGIN:STANDARD
TZNAME:CET
TZOFFSETFROM:+0200
TZOFFSETTO:+0100
DTSTART:19170917T030000
RRULE:FREQ=YEARLY;UNTIL=19180916T010000Z;BYMONTH=9;BYDAY=3MO
END:STANDARD
BEGIN:DAYLIGHT
TZNAME:CEST
TZOFFSETFROM:+0100
TZOFFSETTO:+0200
DTSTART:19440403T020000
RRULE:FREQ=YEARLY;UNTIL=19450402T010000Z;BYMONTH=4;BYDAY=1MO
END:DAYLIGHT
BEGIN:DAYLIGHT
TZNAME:CEMT
TZOFFSETFROM:+0200
TZOFFSETTO:+0300
DTSTART:19450524T020000
RDATE:19470511T030000
END:DAYLIGHT
BEGIN:DAYLIGHT
TZNAME:CEST
TZOFFSETFROM:+0300
TZOFFSETTO:+0200
DTSTART:19450924T030000
RDATE:19470629T030000
END:DAYLIGHT
BEGIN:STANDARD
TZNAME:CET
TZOFFSETFROM:+0100
TZOFFSETTO:+0100
DTSTART:19460101T000000
RDATE:19800101T000000
END:STANDARD
BEGIN:STANDARD
TZNAME:CET
TZOFFSETFROM:+0200
TZOFFSETTO:+0100
DTSTART:19471005T030000
RRULE:FREQ=YEARLY;UNTIL=19491002T010000Z;BYMONTH=10;BYDAY=1SU
END:STANDARD
BEGIN:STANDARD
TZNAME:CET
TZOFFSETFROM:+0200
TZOFFSETTO:+0100
DTSTART:19800928T030000
RRULE:FREQ=YEARLY;UNTIL=19950924T010000Z;BYMONTH=9;BYDAY=-1SU
END:STANDARD
BEGIN:DAYLIGHT
TZNAME:CEST
TZOFFSETFROM:+0100
TZOFFSETTO:+0200
DTSTART:19810329T020000
RRULE:FREQ=YEARLY;BYMONTH=3;BYDAY=-1SU
END:DAYLIGHT
BEGIN:STANDARD
TZNAME:CET
TZOFFSETFROM:+0200
TZOFFSETTO:+0100
DTSTART:19961027T030000
RRULE:FREQ=YEARLY;BYMONTH=10;BYDAY=-1SU
END:STANDARD
END:VTIMEZONE
BEGIN:VEVENT
DTSTAMP:20260421T072736Z
DTSTART;TZID=Europe/Berlin:20250330T170000
DTEND;TZID=Europe/Berlin:20250330T183000
SUMMARY:Regionsoberliga Frauen Halbfinale HSG Marienheide/Müllenbach vs HC Gelpe/Strombach III (294003)
UID:22434720-0c5f-42de-b5a4-bf8b2308d132
STATUS:CONFIRMED
LAST-MODIFIED:20250406T093603Z
DESCRIPTION:Regionsoberliga Frauen Halbfinale\nBegegnungs-Nr: 294003\nHeim: HSG Marienheide/Müllenbach\nGast: HC Gelpe/Strombach III\nHalle: SpH Ges.Schule Marienheide (09014)\nAdresse: Pestalozzistr.\, 51709 Marienheide\n
LOCATION:SpH Ges.Schule Marienheide (09014): Pestalozzistr.\, 51709 Marienheide
CATEGORIES:Saison 2024/25
END:VEVENT
BEGIN:VEVENT
DTSTAMP:20260421T072736Z
DTSTART;TZID=Europe/Berlin:20250405T170000
DTEND;TZID=Europe/Berlin:20250405T183000
SUMMARY:Regionsoberliga Frauen Finale HSG Marienheide/Müllenbach vs HBD Löwen Oberberg II (1)
UID:5768fe5f-de11-44af-b191-e56d6ac5231a
STATUS:CONFIRMED
LAST-MODIFIED:20250406T093658Z
DESCRIPTION:Regionsoberliga Frauen Finale \nBegegnungs-Nr: 1\nHeim: HSG Marienheide/Müllenbach\nGast: HBD Löwen Oberberg II\nHalle: SpH Ges.Schule Marienheide (09014)\nAdresse: Pestalozzistr.\, 51709 Marienheide\n
LOCATION:SpH Ges.Schule Marienheide (09014): Pestalozzistr.\, 51709 Marienheide
CATEGORIES:Saison 2024/25
END:VEVENT
BEGIN:VEVENT
DTSTAMP:20260421T072736Z
DTSTART;TZID=Europe/Berlin:20241013T170000
DTEND;TZID=Europe/Berlin:20241013T183000
SUMMARY:Regionsoberliga Frauen Gruppe. A HSG Marienheide/Müllenbach vs TV Wahlscheid (291011)
UID:1ddfd4f9-6ac8-4ebd-b359-47e26510ba41
STATUS:CONFIRMED
LAST-MODIFIED:20241031T094659Z
DESCRIPTION:Regionsoberliga Frauen Gruppe: A\nBegegnungs-Nr: 291011\nHeim: HSG Marienheide/Müllenbach\nGast: TV Wahlscheid\nHalle: SpH Ges.Schule Marienheide (09014)\nAdresse: Pestalozzistr.\, 51709 Marienheide\n
LOCATION:SpH Ges.Schule Marienheide (09014): Pestalozzistr.\, 51709 Marienheide
CATEGORIES:Saison 2024/25
END:VEVENT
BEGIN:VEVENT
DTSTAMP:20260421T072736Z
DTSTART;TZID=Europe/Berlin:20241214T160000
DTEND;TZID=Europe/Berlin:20241214T173000
SUMMARY:Regionsoberliga Frauen Gruppe. A HSG Marienheide/Müllenbach vs SSV Overath (291035)
UID:86be2113-e9fb-4acf-ae50-31f4ea8af45c
STATUS:CONFIRMED
LAST-MODIFIED:20241219T114458Z
DESCRIPTION:Regionsoberliga Frauen Gruppe: A\nBegegnungs-Nr: 291035\nHeim: HSG Marienheide/Müllenbach\nGast: SSV Overath\nHalle: SpH Ges.Schule Marienheide (09014)\nAdresse: Pestalozzistr.\, 51709 Marienheide\n
LOCATION:SpH Ges.Schule Marienheide (09014): Pestalozzistr.\, 51709 Marienheide
CATEGORIES:Saison 2024/25
END:VEVENT
BEGIN:VEVENT
DTSTAMP:20260421T072736Z
DTSTART;TZID=Europe/Berlin:20250309T130000
DTEND;TZID=Europe/Berlin:20250309T143000
SUMMARY:Regionsoberliga Frauen Viertelfinale HSG Marienheide/Müllenbach vs CVJM Waldbröl (293001)
UID:4c41cd92-e158-409a-a0fc-e4f4dc04e315
STATUS:CONFIRMED
LAST-MODIFIED:20250314T092404Z
DESCRIPTION:Regionsoberliga Frauen Viertelfinale\nBegegnungs-Nr: 293001\nHeim: HSG Marienheide/Müllenbach\nGast: CVJM Waldbröl\nHalle: SpH Ges.Schule Marienheide (09014)\nAdresse: Pestalozzistr.\, 51709 Marienheide\n
LOCATION:SpH Ges.Schule Marienheide (09014): Pestalozzistr.\, 51709 Marienheide
CATEGORIES:Saison 2024/25
END:VEVENT
BEGIN:VEVENT
DTSTAMP:20260421T072736Z
DTSTART;TZID=Europe/Berlin:20240921T170000
DTEND;TZID=Europe/Berlin:20240921T183000
SUMMARY:Regionsoberliga Frauen Gruppe. A HSG Marienheide/Müllenbach vs SG Kierspe-Meinerzhagen       (291002)
UID:14c106e6-2635-4dc3-bd64-a869070e749d
STATUS:CONFIRMED
LAST-MODIFIED:20240923T092619Z
DESCRIPTION:Regionsoberliga Frauen Gruppe: A\nBegegnungs-Nr: 291002\nHeim: HSG Marienheide/Müllenbach\nGast: SG Kierspe-Meinerzhagen      \nHalle: SpH Ges.Schule Marienheide (09014)\nAdresse: Pestalozzistr.\, 51709 Marienheide\n
LOCATION:SpH Ges.Schule Marienheide (09014): Pestalozzistr.\, 51709 Marienheide
CATEGORIES:Saison 2024/25
END:VEVENT
BEGIN:VEVENT
DTSTAMP:20260421T072736Z
DTSTART;TZID=Europe/Berlin:20250209T170000
DTEND;TZID=Europe/Berlin:20250209T183000
SUMMARY:Regionsoberliga Frauen Gruppe. A HSG Marienheide/Müllenbach vs TuS Plettenberg (291049)
UID:49005f64-0013-47f2-aa12-0530e2beca3e
STATUS:CONFIRMED
LAST-MODIFIED:20250208T130540Z
DESCRIPTION:Regionsoberliga Frauen Gruppe: A\nBegegnungs-Nr: 291049\nHeim: HSG Marienheide/Müllenbach\nGast: TuS Plettenberg\nHalle: SpH Ges.Schule Marienheide (09014)\nAdresse: Pestalozzistr.\, 51709 Marienheide\n
LOCATION:SpH Ges.Schule Marienheide (09014): Pestalozzistr.\, 51709 Marienheide
CATEGORIES:Saison 2024/25
END:VEVENT
BEGIN:VEVENT
DTSTAMP:20260421T072736Z
DTSTART;TZID=Europe/Berlin:20250216T170000
DTEND;TZID=Europe/Berlin:20250216T183000
SUMMARY:Regionsoberliga Frauen Gruppe. A HSG Marienheide/Müllenbach vs HC Gelpe/Strombach III (291054)
UID:56ca7f70-920e-4ad8-bcc8-6b9eca238517
STATUS:CONFIRMED
LAST-MODIFIED:20250214T084911Z
DESCRIPTION:Regionsoberliga Frauen Gruppe: A\nBegegnungs-Nr: 291054\nHeim: HSG Marienheide/Müllenbach\nGast: HC Gelpe/Strombach III\nHalle: SpH Ges.Schule Marienheide (09014)\nAdresse: Pestalozzistr.\, 51709 Marienheide\n
LOCATION:SpH Ges.Schule Marienheide (09014): Pestalozzistr.\, 51709 Marienheide
CATEGORIES:Saison 2024/25
END:VEVENT
BEGIN:VEVENT
DTSTAMP:20260421T072736Z
DTSTART;TZID=Europe/Berlin:20250125T000000
DTEND;TZID=Europe/Berlin:20250125T013000
SUMMARY:Regionsoberliga Frauen Gruppe. A HSG Marienheide/Müllenbach vs spielfrei (291044)
UID:9cb2d399-ce16-4be4-8055-eb1bb3928598
STATUS:CONFIRMED
LAST-MODIFIED:20250124T110655Z
DESCRIPTION:Regionsoberliga Frauen Gruppe: A\nBegegnungs-Nr: 291044\nHeim: HSG Marienheide/Müllenbach\nGast: spielfrei\nHalle: SpH Ges.Schule Marienheide (09014)\nAdresse: Pestalozzistr.\, 51709 Marienheide\n
LOCATION:SpH Ges.Schule Marienheide (09014): Pestalozzistr.\, 51709 Marienheide
CATEGORIES:Saison 2024/25
END:VEVENT
BEGIN:VEVENT
DTSTAMP:20260421T072736Z
DTSTART;TZID=Europe/Berlin:20241109T000000
DTEND;TZID=Europe/Berlin:20241109T013000
SUMMARY:Regionsoberliga Frauen Gruppe. A HSG Marienheide/Müllenbach vs spielfrei (291020)
UID:b5a568c4-80d7-41c9-8e3f-a9aec3e1853f
STATUS:CONFIRMED
DESCRIPTION:Regionsoberliga Frauen Gruppe: A\nBegegnungs-Nr: 291020\nHeim: HSG Marienheide/Müllenbach\nGast: spielfrei\nHalle: SpH Ges.Schule Marienheide (09014)\nAdresse: Pestalozzistr.\, 51709 Marienheide\n
LOCATION:SpH Ges.Schule Marienheide (09014): Pestalozzistr.\, 51709 Marienheide
CATEGORIES:Saison 2024/25
END:VEVENT
BEGIN:VEVENT
DTSTAMP:20260421T072736Z
DTSTART;TZID=Europe/Berlin:20250119T170000
DTEND;TZID=Europe/Berlin:20250119T183000
SUMMARY:Regionsoberliga Frauen Gruppe. A TV Wahlscheid vs HSG Marienheide/Müllenbach (291039)
UID:c1f53fd0-3659-4ab8-ab17-84335db41b59
STATUS:CONFIRMED
LAST-MODIFIED:20250120T101416Z
DESCRIPTION:Regionsoberliga Frauen Gruppe: A\nBegegnungs-Nr: 291039\nHeim: TV Wahlscheid\nGast: HSG Marienheide/Müllenbach\nHalle: SpH Lohmar-Birk (09024)\nAdresse: Pastor-Biesing-Str.\, 53797 Lohmar-Birk\n
LOCATION:SpH Lohmar-Birk (09024): Pastor-Biesing-Str.\, 53797 Lohmar-Birk
CATEGORIES:Saison 2024/25
END:VEVENT
BEGIN:VEVENT
DTSTAMP:20260421T072736Z
DTSTART;TZID=Europe/Berlin:20250323T143000
DTEND;TZID=Europe/Berlin:20250323T160000
SUMMARY:Regionsoberliga Frauen Halbfinale HC Gelpe/Strombach III vs HSG Marienheide/Müllenbach (294001)
UID:031924ea-adfe-4de7-ba4b-90f5446228c0
STATUS:CONFIRMED
LAST-MODIFIED:20250406T093457Z
DESCRIPTION:Regionsoberliga Frauen Halbfinale\nBegegnungs-Nr: 294001\nHeim: HC Gelpe/Strombach III\nGast: HSG Marienheide/Müllenbach\nHalle: SpH Reininghauser Str. (09007)\nAdresse: Reininghauser Str. 34\, 51643 Gummersbach\n
LOCATION:SpH Reininghauser Str. (09007): Reininghauser Str. 34\, 51643 Gummersbach
CATEGORIES:Saison 2024/25
END:VEVENT
BEGIN:VEVENT
DTSTAMP:20260421T072736Z
DTSTART;TZID=Europe/Berlin:20250316T150000
DTEND;TZID=Europe/Berlin:20250316T163000
SUMMARY:Regionsoberliga Frauen Viertelfinale CVJM Waldbröl vs HSG Marienheide/Müllenbach (293005)
UID:d82cdcdb-fe29-4e34-8a24-cd3f4dffc8b3
STATUS:CONFIRMED
LAST-MODIFIED:20250317T095648Z
DESCRIPTION:Regionsoberliga Frauen Viertelfinale\nBegegnungs-Nr: 293005\nHeim: CVJM Waldbröl\nGast: HSG Marienheide/Müllenbach\nHalle: Nutscheidhalle (09001)\nAdresse: Vennstr.\, 51545 Waldbröl\n
LOCATION:Nutscheidhalle (09001): Vennstr.\, 51545 Waldbröl
CATEGORIES:Saison 2024/25
END:VEVENT
BEGIN:VEVENT
DTSTAMP:20260421T072736Z
DTSTART;TZID=Europe/Berlin:20241123T201500
DTEND;TZID=Europe/Berlin:20241123T214500
SUMMARY:Regionsoberliga Frauen Gruppe. A VfL Gummersbach vs HSG Marienheide/Müllenbach (291016)
UID:822b4137-6387-4fce-98b2-ca709b6996f2
STATUS:CONFIRMED
LAST-MODIFIED:20250124T110656Z
DESCRIPTION:Regionsoberliga Frauen Gruppe: A\nBegegnungs-Nr: 291016\nHeim: VfL Gummersbach\nGast: HSG Marienheide/Müllenbach\nHalle: Schwalbe-Arena Feld 1 (09030)\nAdresse: Steinmüllerallee\, 51643 Gummersbach\n
LOCATION:Schwalbe-Arena Feld 1 (09030): Steinmüllerallee\, 51643 Gummersbach
CATEGORIES:Saison 2024/25
END:VEVENT
BEGIN:VEVENT
DTSTAMP:20260421T072736Z
DTSTART;TZID=Europe/Berlin:20250201T000000
DTEND;TZID=Europe/Berlin:20250201T013000
SUMMARY:Regionsoberliga Frauen Gruppe. A spielfrei vs HSG Marienheide/Müllenbach (291048)
UID:a0529207-d465-44bf-8c8a-54aaf61855de
STATUS:CONFIRMED
DESCRIPTION:Regionsoberliga Frauen Gruppe: A\nBegegnungs-Nr: 291048\nHeim: spielfrei\nGast: HSG Marienheide/Müllenbach\n
LOCATION:
CATEGORIES:Saison 2024/25
END:VEVENT
BEGIN:VEVENT
DTSTAMP:20260421T072736Z
DTSTART;TZID=Europe/Berlin:20250114T191500
DTEND;TZID=Europe/Berlin:20250114T204500
SUMMARY:Regionsoberliga Frauen Gruppe. A SG Kierspe-Meinerzhagen       vs HSG Marienheide/Müllenbach (291030)
UID:05f4c277-b445-4f59-b9b0-cb13b5f56f41
STATUS:CONFIRMED
LAST-MODIFIED:20250122T124239Z
DESCRIPTION:Regionsoberliga Frauen Gruppe: A\nBegegnungs-Nr: 291030\nHeim: SG Kierspe-Meinerzhagen      \nGast: HSG Marienheide/Müllenbach\nHalle: Sportzentrum Felderhof (09039)\nAdresse: Otto-Ruhe-Straße 2\, 58566 Kierspe\n
LOCATION:Sportzentrum Felderhof (09039): Otto-Ruhe-Straße 2\, 58566 Kierspe
CATEGORIES:Saison 2024/25
END:VEVENT
BEGIN:VEVENT
DTSTAMP:20260421T072736Z
DTSTART;TZID=Europe/Berlin:20241201T160000
DTEND;TZID=Europe/Berlin:20241201T173000
SUMMARY:Regionsoberliga Frauen Gruppe. A HC Gelpe/Strombach III vs HSG Marienheide/Müllenbach (291026)
UID:528a0d79-556f-4550-90e8-ce064385a54e
STATUS:CONFIRMED
LAST-MODIFIED:20241202T114221Z
DESCRIPTION:Regionsoberliga Frauen Gruppe: A\nBegegnungs-Nr: 291026\nHeim: HC Gelpe/Strombach III\nGast: HSG Marienheide/Müllenbach\nHalle: Eugen-Haas-Sporthalle (09006)\nAdresse: Moltkestr. 51\, 51643 Gummersbach\n
LOCATION:Eugen-Haas-Sporthalle (09006): Moltkestr. 51\, 51643 Gummersbach
CATEGORIES:Saison 2024/25
END:VEVENT
BEGIN:VEVENT
DTSTAMP:20260421T072736Z
DTSTART;TZID=Europe/Berlin:20241117T140000
DTEND;TZID=Europe/Berlin:20241117T153000
SUMMARY:Regionsoberliga Frauen Gruppe. A TuS Plettenberg vs HSG Marienheide/Müllenbach (291021)
UID:91428b92-7e7e-4fb5-818b-2eaeb8755d67
STATUS:CONFIRMED
LAST-MODIFIED:20241124T143201Z
DESCRIPTION:Regionsoberliga Frauen Gruppe: A\nBegegnungs-Nr: 291021\nHeim: TuS Plettenberg\nGast: HSG Marienheide/Müllenbach\nHalle: SpH Albert-Schweitzer-Gymn. (09056)\nAdresse: Albert-Schweitzer-Straße 4\, 58840 Plettenberg\n
LOCATION:SpH Albert-Schweitzer-Gymn. (09056): Albert-Schweitzer-Straße 4\, 58840 Plettenberg
CATEGORIES:Saison 2024/25
END:VEVENT
BEGIN:VEVENT
DTSTAMP:20260421T072736Z
DTSTART;TZID=Europe/Berlin:20240929T180000
DTEND;TZID=Europe/Berlin:20240929T193000
SUMMARY:Regionsoberliga Frauen Gruppe. A SSV Overath vs HSG Marienheide/Müllenbach (291007)
UID:6f0c48c5-de14-4e77-a7e0-d4565d724f47
STATUS:CONFIRMED
LAST-MODIFIED:20240930T111118Z
DESCRIPTION:Regionsoberliga Frauen Gruppe: A\nBegegnungs-Nr: 291007\nHeim: SSV Overath\nGast: HSG Marienheide/Müllenbach\nHalle: Schulzentrum Cyriax (09028)\nAdresse: Cyriax\, 51491 Overath\n
LOCATION:Schulzentrum Cyriax (09028): Cyriax\, 51491 Overath
CATEGORIES:Saison 2024/25
END:VEVENT
END:VCALENDAR
