BEGIN:VCALENDAR
PRODID:-//nuDatenautomaten//framework iCal4j //DE
VERSION:2.0
CALSCALE:GREGORIAN
BEGIN:VTIMEZONE
TZID:Europe/Berlin
LAST-MODIFIED:20260306T231828Z
TZURL:https://www.tzurl.org/zoneinfo/Europe/Berlin
X-LIC-LOCATION:Europe/Berlin
X-PROLEPTIC-TZNAME:LMT
BEGIN:STANDARD
TZNAME:CET
TZOFFSETFROM:+005328
TZOFFSETTO:+0100
DTSTART:18930401T000000
END:STANDARD
BEGIN:DAYLIGHT
TZNAME:CEST
TZOFFSETFROM:+0100
TZOFFSETTO:+0200
DTSTART:19160430T230000
RDATE:19400401T020000
RDATE:19430329T020000
RDATE:19460414T020000
RDATE:19470406T030000
RDATE:19480418T020000
RDATE:19490410T020000
RDATE:19800406T020000
END:DAYLIGHT
BEGIN:STANDARD
TZNAME:CET
TZOFFSETFROM:+0200
TZOFFSETTO:+0100
DTSTART:19161001T010000
RDATE:19421102T030000
RDATE:19431004T030000
RDATE:19441002T030000
RDATE:19451118T030000
RDATE:19461007T030000
END:STANDARD
BEGIN:DAYLIGHT
TZNAME:CEST
TZOFFSETFROM:+0100
TZOFFSETTO:+0200
DTSTART:19170416T020000
RRULE:FREQ=YEARLY;UNTIL=19180415T010000Z;BYMONTH=4;BYDAY=3MO
END:DAYLIGHT
BEGIN:STANDARD
TZNAME:CET
TZOFFSETFROM:+0200
TZOFFSETTO:+0100
DTSTART:19170917T030000
RRULE:FREQ=YEARLY;UNTIL=19180916T010000Z;BYMONTH=9;BYDAY=3MO
END:STANDARD
BEGIN:DAYLIGHT
TZNAME:CEST
TZOFFSETFROM:+0100
TZOFFSETTO:+0200
DTSTART:19440403T020000
RRULE:FREQ=YEARLY;UNTIL=19450402T010000Z;BYMONTH=4;BYDAY=1MO
END:DAYLIGHT
BEGIN:DAYLIGHT
TZNAME:CEMT
TZOFFSETFROM:+0200
TZOFFSETTO:+0300
DTSTART:19450524T020000
RDATE:19470511T030000
END:DAYLIGHT
BEGIN:DAYLIGHT
TZNAME:CEST
TZOFFSETFROM:+0300
TZOFFSETTO:+0200
DTSTART:19450924T030000
RDATE:19470629T030000
END:DAYLIGHT
BEGIN:STANDARD
TZNAME:CET
TZOFFSETFROM:+0100
TZOFFSETTO:+0100
DTSTART:19460101T000000
RDATE:19800101T000000
END:STANDARD
BEGIN:STANDARD
TZNAME:CET
TZOFFSETFROM:+0200
TZOFFSETTO:+0100
DTSTART:19471005T030000
RRULE:FREQ=YEARLY;UNTIL=19491002T010000Z;BYMONTH=10;BYDAY=1SU
END:STANDARD
BEGIN:STANDARD
TZNAME:CET
TZOFFSETFROM:+0200
TZOFFSETTO:+0100
DTSTART:19800928T030000
RRULE:FREQ=YEARLY;UNTIL=19950924T010000Z;BYMONTH=9;BYDAY=-1SU
END:STANDARD
BEGIN:DAYLIGHT
TZNAME:CEST
TZOFFSETFROM:+0100
TZOFFSETTO:+0200
DTSTART:19810329T020000
RRULE:FREQ=YEARLY;BYMONTH=3;BYDAY=-1SU
END:DAYLIGHT
BEGIN:STANDARD
TZNAME:CET
TZOFFSETFROM:+0200
TZOFFSETTO:+0100
DTSTART:19961027T030000
RRULE:FREQ=YEARLY;BYMONTH=10;BYDAY=-1SU
END:STANDARD
END:VTIMEZONE
BEGIN:VEVENT
DTSTAMP:20260419T215005Z
DTSTART;TZID=Europe/Berlin:20250830T133000
DTEND;TZID=Europe/Berlin:20250830T143000
SUMMARY:T BES CUP HSG Geislar-Oberkassel 1 vs HSG Siebengebirge-Thomasberg 1 (4)
UID:339a41cb-cbac-4704-bb22-5ff95257e92d
STATUS:CONFIRMED
DESCRIPTION:Turnier BES CUP\nBegegnungs-Nr: 4\nHeim: HSG Geislar-Oberkassel 1\nGast: HSG Siebengebirge-Thomasberg 1\nHalle: Sporthalle Beuel-Ost Gesamtschule (03012)\nAdresse: Siegburger Strasse 321\, 53229 Bonn\n
LOCATION:Sporthalle Beuel-Ost Gesamtschule (03012): Siegburger Strasse 321\, 53229 Bonn
CATEGORIES:Saison Freundschaft 2025/26
END:VEVENT
BEGIN:VEVENT
DTSTAMP:20260419T215005Z
DTSTART;TZID=Europe/Berlin:20250821T203000
DTEND;TZID=Europe/Berlin:20250821T220000
SUMMARY:F HSG Geislar/Obk. H1 01 HSG Geislar-Oberkassel 1 vs TSV Bonn rrh. III (0)
UID:cdfb0f09-71ff-4a23-9137-a0bd2719f107
STATUS:CONFIRMED
DESCRIPTION:Freundschaftsspiel HSG Geislar/Obk. H1 01\nBegegnungs-Nr: 0\nHeim: HSG Geislar-Oberkassel 1\nGast: TSV Bonn rrh. III\nHalle: Sporthalle Beuel-Ost Gesamtschule (03012)\nAdresse: Siegburger Strasse 321\, 53229 Bonn\n
LOCATION:Sporthalle Beuel-Ost Gesamtschule (03012): Siegburger Strasse 321\, 53229 Bonn
CATEGORIES:Saison Freundschaft 2025/26
END:VEVENT
BEGIN:VEVENT
DTSTAMP:20260419T215005Z
DTSTART;TZID=Europe/Berlin:20250824T130000
DTEND;TZID=Europe/Berlin:20250824T133000
SUMMARY:T Turnier 2. Herren Pulheim HSG Geislar-Oberkassel 1 vs Pulheimer SC 2 (4)
UID:30ca6f6f-7efb-4e0f-9e1f-03951c4bbd71
STATUS:CONFIRMED
DESCRIPTION:Turnier Turnier 2. Herren Pulheim\nBegegnungs-Nr: 4\nHeim: HSG Geislar-Oberkassel 1\nGast: Pulheimer SC 2\nHalle: Pulheim Sportzentrum50259 Pulheim\n
LOCATION:Pulheim Sportzentrum 50259 Pulheim
CATEGORIES:Saison Freundschaft 2025/26
END:VEVENT
BEGIN:VEVENT
DTSTAMP:20260419T215005Z
DTSTART;TZID=Europe/Berlin:20250907T180000
DTEND;TZID=Europe/Berlin:20250907T193000
SUMMARY:F Wölfe Voreifel H1 - HSG Geislar-Oberkassel H1 Wölfe Voreifel 1 vs HSG Geislar-Oberkassel 1 (3)
UID:35f26703-ba7f-4362-9e47-5c849dedf159
STATUS:CONFIRMED
DESCRIPTION:Freundschaftsspiel Wölfe Voreifel H1 - HSG Geislar-Oberkassel H1\nBegegnungs-Nr: 3\nHeim: Wölfe Voreifel 1\nGast: HSG Geislar-Oberkassel 1\nHalle: Sporthalle Heimerzheim (03044)\nAdresse: Höhenring 101\, 53913 Swisttal\n
LOCATION:Sporthalle Heimerzheim (03044): Höhenring 101\, 53913 Swisttal
CATEGORIES:Saison Freundschaft 2025/26
END:VEVENT
BEGIN:VEVENT
DTSTAMP:20260419T215005Z
DTSTART;TZID=Europe/Berlin:20250830T163000
DTEND;TZID=Europe/Berlin:20250830T173000
SUMMARY:T BES CUP TSV Bonn rrh. II vs HSG Geislar-Oberkassel 1 (6)
UID:0952059b-ab5c-4a14-baac-436a28a1fbe6
STATUS:CONFIRMED
DESCRIPTION:Turnier BES CUP\nBegegnungs-Nr: 6\nHeim: TSV Bonn rrh. II\nGast: HSG Geislar-Oberkassel 1\nHalle: Sporthalle Beuel-Ost Gesamtschule (03012)\nAdresse: Siegburger Strasse 321\, 53229 Bonn\n
LOCATION:Sporthalle Beuel-Ost Gesamtschule (03012): Siegburger Strasse 321\, 53229 Bonn
CATEGORIES:Saison Freundschaft 2025/26
END:VEVENT
BEGIN:VEVENT
DTSTAMP:20260419T215005Z
DTSTART;TZID=Europe/Berlin:20250906T180000
DTEND;TZID=Europe/Berlin:20250906T193000
SUMMARY:F-Spiele HSG Merkstein vs HSG Geislar-Oberkassel 1 (32)
UID:e011669c-12c7-4a28-878e-85554b810e15
STATUS:CONFIRMED
DESCRIPTION:Freundschaftsspiele\nBegegnungs-Nr: 32\nHeim: HSG Merkstein\nGast: HSG Geislar-Oberkassel 1\nHalle: M2 Herzogenrath Gesamtschule (02007)\nAdresse: Geilenkirchener Strasse\, 52134 Herzogenrath\n
LOCATION:M2 Herzogenrath Gesamtschule (02007): Geilenkirchener Strasse\, 52134 Herzogenrath
CATEGORIES:Saison Freundschaft 2025/26
END:VEVENT
BEGIN:VEVENT
DTSTAMP:20260419T215005Z
DTSTART;TZID=Europe/Berlin:20250824T142000
DTEND;TZID=Europe/Berlin:20250824T145000
SUMMARY:T Turnier 2. Herren Pulheim Neusser HV 1 vs HSG Geislar-Oberkassel 1 (6)
UID:bfe5a430-75b7-42a2-b23c-ebf912151aa2
STATUS:CONFIRMED
DESCRIPTION:Turnier Turnier 2. Herren Pulheim\nBegegnungs-Nr: 6\nHeim: Neusser HV 1\nGast: HSG Geislar-Oberkassel 1\nHalle: Pulheim Sportzentrum50259 Pulheim\n
LOCATION:Pulheim Sportzentrum 50259 Pulheim
CATEGORIES:Saison Freundschaft 2025/26
END:VEVENT
END:VCALENDAR
